BEGIN:VCALENDAR
VERSION:2.0
PRODID:-//hacksw/handcal//NONSGML v1.0//EN
BEGIN:VEVENT
SUMMARY:footing depart Briqueterie
UID:b835a2eb-7adc-42e3-90e1-0059c4b75fb7
DTSTART:20260310T173000Z
DTEND:20260310T183000Z
LOCATION:Localisation   
CATEGORIES:Sportif
STATUS:
URL;VALUE=URI:https://activcrosstraining.sportsregions.fr/evenements/2026/03/10/footing-depart-briqueterie-2257166
END:VEVENT
END:VCALENDAR
