BEGIN:VCALENDAR
VERSION:2.0
PRODID:-//hacksw/handcal//NONSGML v1.0//EN
BEGIN:VEVENT
SUMMARY:MARCHE depart Briqueterie
UID:2422ce77-f65b-40fa-a9ea-3de45b22a093
DTSTART:20260310T173000Z
DTEND:20260310T183000Z
LOCATION:Localisation   
CATEGORIES:Sportif
STATUS:
URL;VALUE=URI:https://activcrosstraining.sportsregions.fr/evenements/2026/03/10/marche-depart-briqueterie-2352058
END:VEVENT
END:VCALENDAR
