BEGIN:VCALENDAR
VERSION:2.0
PRODID:-//hacksw/handcal//NONSGML v1.0//EN
BEGIN:VEVENT
SUMMARY:RENFO 1
UID:991a8438-a0f9-4ffc-a727-f7e9e6f9b9cc
DTSTART:20260312T163000Z
DTEND:20260312T171500Z
LOCATION:Localisation   
CATEGORIES:Sportif
STATUS:
URL;VALUE=URI:https://activcrosstraining.sportsregions.fr/evenements/2026/03/12/renfo-1-2425248
END:VEVENT
END:VCALENDAR
