BEGIN:VCALENDAR
VERSION:2.0
PRODID:-//hacksw/handcal//NONSGML v1.0//EN
BEGIN:VEVENT
SUMMARY:MARCHE parking grand pre ( en haut )
UID:b6dfca4b-8039-438e-9aa7-71216964be14
DTSTART:20260324T173000Z
DTEND:20260324T183000Z
LOCATION:Localisation   
CATEGORIES:Sportif
STATUS:
URL;VALUE=URI:https://activcrosstraining.sportsregions.fr/evenements/2026/03/24/marche-parking-grand-pre-en-haut-2352060
END:VEVENT
END:VCALENDAR
