BEGIN:VCALENDAR
VERSION:2.0
PRODID:-//hacksw/handcal//NONSGML v1.0//EN
BEGIN:VEVENT
SUMMARY:RENFO/cardio ( petite salle )
UID:ed807e9e-f466-4aec-99ba-2568239b531c
DTSTART:20260329T083000Z
DTEND:20260329T093000Z
LOCATION:Localisation   
CATEGORIES:Sportif
STATUS:
URL;VALUE=URI:https://activcrosstraining.sportsregions.fr/evenements/2026/03/29/renfocardio-petite-salle-2257869
END:VEVENT
END:VCALENDAR
