BEGIN:VCALENDAR
VERSION:2.0
PRODID:-//hacksw/handcal//NONSGML v1.0//EN
BEGIN:VEVENT
SUMMARY:footing parking Briqueterie Langueux
UID:a1fb157f-d3f4-49fa-96ae-97c110145055
DTSTART:20260421T163000Z
DTEND:20260421T173000Z
LOCATION:Localisation   
CATEGORIES:Sportif
STATUS:
URL;VALUE=URI:https://activcrosstraining.sportsregions.fr/evenements/2026/04/21/footing-parking-briqueterie-langueux-2257172
END:VEVENT
END:VCALENDAR
