BEGIN:VCALENDAR
VERSION:2.0
PRODID:-//hacksw/handcal//NONSGML v1.0//EN
BEGIN:VEVENT
SUMMARY:MARCHE parking Briqueterie Langueux
UID:177b2617-b015-4c9f-8c9b-fa2dfa250b99
DTSTART:20260421T163000Z
DTEND:20260421T173000Z
LOCATION:Localisation   
CATEGORIES:Sportif
STATUS:
URL;VALUE=URI:https://activcrosstraining.sportsregions.fr/evenements/2026/04/21/marche-parking-briqueterie-langueux-2352065
END:VEVENT
END:VCALENDAR
