BEGIN:VCALENDAR
VERSION:2.0
PRODID:-//hacksw/handcal//NONSGML v1.0//EN
BEGIN:VEVENT
SUMMARY:CARDIO
UID:c3bf702b-a279-4c31-a6b3-3ba1446e7c8f
DTSTART:20260423T170000Z
DTEND:20260423T174500Z
LOCATION:Localisation   
CATEGORIES:Sportif
STATUS:
URL;VALUE=URI:https://activcrosstraining.sportsregions.fr/evenements/2026/04/23/cardio-2257704
END:VEVENT
END:VCALENDAR
