BEGIN:VCALENDAR
VERSION:2.0
PRODID:-//hacksw/handcal//NONSGML v1.0//EN
BEGIN:VEVENT
SUMMARY:RENFO
UID:f14aa4a3-dee6-44f6-a792-ba756d4a06ba
DTSTART:20260423T160000Z
DTEND:20260423T164500Z
LOCATION:Localisation   
CATEGORIES:Sportif
STATUS:
URL;VALUE=URI:https://activcrosstraining.sportsregions.fr/evenements/2026/04/23/renfo-2290665
END:VEVENT
END:VCALENDAR
