BEGIN:VCALENDAR
VERSION:2.0
PRODID:-//hacksw/handcal//NONSGML v1.0//EN
BEGIN:VEVENT
SUMMARY:Wod
UID:10700110-3c8a-40a3-ab50-3e8eb560cbeb
DTSTART:20260503T071500Z
DTEND:20260503T081500Z
LOCATION:Localisation   
CATEGORIES:Sportif
STATUS:
URL;VALUE=URI:https://activcrosstraining.sportsregions.fr/evenements/2026/05/03/wod-2257828
END:VEVENT
END:VCALENDAR
