BEGIN:VCALENDAR
VERSION:2.0
PRODID:-//hacksw/handcal//NONSGML v1.0//EN
BEGIN:VEVENT
SUMMARY:Randonnee cohesion
UID:bfda3521-2160-479c-acde-6faf305821f0
DTSTART:20260628T120000Z
DTEND:20260628T150000Z
LOCATION:Localisation   
CATEGORIES:Sportif
STATUS:
URL;VALUE=URI:https://activcrosstraining.sportsregions.fr/evenements/2026/06/28/randonnee-cohesion-2438917
END:VEVENT
END:VCALENDAR
